BEGIN:VCALENDAR
VERSION:2.0
PRODID:-//103.42.110.3//NONSGML kigkonsult.se iCalcreator 2.20//
CALSCALE:GREGORIAN
METHOD:PUBLISH
X-WR-CALNAME:Lismore Workers Club
X-WR-CALDESC:Play\, meet and dine with the North Coast&#039\;s best clubs
X-FROM-URL:https://lismoreworkers.com.au
X-WR-TIMEZONE:Australia/Sydney
BEGIN:VTIMEZONE
TZID:Australia/Sydney
X-LIC-LOCATION:Australia/Sydney
BEGIN:STANDARD
DTSTART:20200405T030000
TZOFFSETFROM:+1100
TZOFFSETTO:+1000
TZNAME:AEST
END:STANDARD
BEGIN:DAYLIGHT
DTSTART:20191006T020000
TZOFFSETFROM:+1000
TZOFFSETTO:+1100
TZNAME:AEDT
END:DAYLIGHT
END:VTIMEZONE
BEGIN:VEVENT
UID:ai1ec-8042@lismoreworkers.com.au
DTSTAMP:20200227T223054Z
CATEGORIES:
CONTACT:Colleen Witherdin\; 0407 069 637\; nreclismore@hotmail.com\; nrothe
 rnriverseuchreclub.org
DESCRIPTION:<p>Social Euchre games every Thursday night. 15 games each week
 . New and old players welcome.</p>
DTSTART;TZID=Australia/Sydney:20170810T193000
DTEND;TZID=Australia/Sydney:20170810T230000
GEO:-28.812496;+153.275631
LOCATION:Lismore Workers Club @ 231 Keen St\, Lismore NSW 2480\, Australia
RRULE:FREQ=WEEKLY;BYDAY=TH;WKST=MO
SEQUENCE:0
SUMMARY:Euchre
URL:https://lismoreworkers.com.au/event/8042/
X-COST-TYPE:free
END:VEVENT
END:VCALENDAR
