BEGIN:VCALENDAR
VERSION:2.0
PRODID:-//103.42.110.3//NONSGML kigkonsult.se iCalcreator 2.20//
CALSCALE:GREGORIAN
METHOD:PUBLISH
X-WR-CALNAME:Lismore Workers Club
X-WR-CALDESC:Play\, meet and dine with the North Coast&#039\;s best clubs
X-FROM-URL:https://lismoreworkers.com.au
X-WR-TIMEZONE:Australia/Sydney
BEGIN:VTIMEZONE
TZID:Australia/Sydney
X-LIC-LOCATION:Australia/Sydney
BEGIN:STANDARD
DTSTART:20200405T030000
TZOFFSETFROM:+1100
TZOFFSETTO:+1000
TZNAME:AEST
END:STANDARD
BEGIN:DAYLIGHT
DTSTART:20191006T020000
TZOFFSETFROM:+1000
TZOFFSETTO:+1100
TZNAME:AEDT
END:DAYLIGHT
END:VTIMEZONE
BEGIN:VEVENT
UID:ai1ec-7530@spirelight.info/lwc
DTSTAMP:20200227T224139Z
CATEGORIES:
CONTACT:
DESCRIPTION:3 draws every Friday and Saturday night during the promotion pe
 riod. Draw times are 7:00pm\, 7:15pm and 7:30pm! Be at any of our three cl
 ubs during the draw times to win!
DTSTART;TZID=Australia/Sydney:20170707T190000
DTEND;TZID=Australia/Sydney:20170707T193000
GEO:-28.812496;+153.275631
LOCATION:Any Lismore Workers Club! @ 231 Keen St\, Lismore NSW 2480\, Austr
 alia
RRULE:FREQ=WEEKLY;BYDAY=FR,SA;WKST=MO
SEQUENCE:0
SUMMARY:Members Draw
URL:https://lismoreworkers.com.au/event/members-draw/
X-COST-TYPE:free
X-ALT-DESC;FMTTYPE=text/html:<!DOCTYPE HTML PUBLIC '-//W3C//DTD HTML 3.2//E
 N'>\\n<HTML>\\n<HEAD>\\n<TITLE></TITLE>\\n</HEAD>\\n<BODY><p>3 draws every
  Friday and Saturday night during the promotion period. Draw times are 7:0
 0pm\, 7:15pm and 7:30pm! Be at any of our three clubs during the draw time
 s to win!</p>\n</BODY></HTML>
END:VEVENT
END:VCALENDAR
