BEGIN:VCALENDAR
VERSION:2.0
PRODID:-//103.42.110.3//NONSGML kigkonsult.se iCalcreator 2.20//
CALSCALE:GREGORIAN
METHOD:PUBLISH
X-WR-CALNAME:Lismore Workers Club
X-WR-CALDESC:Play\, meet and dine with the North Coast&#039\;s best clubs
X-FROM-URL:https://lismoreworkers.com.au
X-WR-TIMEZONE:Australia/Sydney
BEGIN:VTIMEZONE
TZID:Australia/Sydney
X-LIC-LOCATION:Australia/Sydney
BEGIN:STANDARD
DTSTART:20200405T030000
TZOFFSETFROM:+1100
TZOFFSETTO:+1000
TZNAME:AEST
END:STANDARD
BEGIN:DAYLIGHT
DTSTART:20191006T020000
TZOFFSETFROM:+1000
TZOFFSETTO:+1100
TZNAME:AEDT
END:DAYLIGHT
END:VTIMEZONE
BEGIN:VEVENT
UID:ai1ec-7528@spirelight.info/lwc
DTSTAMP:20200227T223956Z
CATEGORIES:
CONTACT:
DESCRIPTION:Over $400 worth of meat and prizes to be won!
DTSTART;TZID=Australia/Sydney:20170707T190000
DTEND;TZID=Australia/Sydney:20170707T200000
GEO:-28.822368;+153.285484
LOCATION:Workers Golf Club @ 1 Barham St\, East Lismore NSW 2480\, Australi
 a
RRULE:FREQ=WEEKLY;BYDAY=FR;WKST=MO
SEQUENCE:0
SUMMARY:Meat Raffle & Trivia
URL:https://lismoreworkers.com.au/event/meat-raffle-trivia/
X-COST-TYPE:free
X-ALT-DESC;FMTTYPE=text/html:<!DOCTYPE HTML PUBLIC '-//W3C//DTD HTML 3.2//E
 N'>\\n<HTML>\\n<HEAD>\\n<TITLE></TITLE>\\n</HEAD>\\n<BODY><p>Over $400 wor
 th of meat and prizes to be won!</p>\n</BODY></HTML>
END:VEVENT
END:VCALENDAR
