BEGIN:VCALENDAR
VERSION:2.0
PRODID:-//103.42.110.3//NONSGML kigkonsult.se iCalcreator 2.20//
CALSCALE:GREGORIAN
METHOD:PUBLISH
X-WR-CALNAME:Lismore Workers Club
X-WR-CALDESC:Play\, meet and dine with the North Coast&#039\;s best clubs
X-FROM-URL:https://lismoreworkers.com.au
X-WR-TIMEZONE:Australia/Sydney
BEGIN:VTIMEZONE
TZID:Australia/Sydney
X-LIC-LOCATION:Australia/Sydney
BEGIN:STANDARD
DTSTART:20200405T030000
TZOFFSETFROM:+1100
TZOFFSETTO:+1000
TZNAME:AEST
END:STANDARD
BEGIN:DAYLIGHT
DTSTART:20191006T020000
TZOFFSETFROM:+1000
TZOFFSETTO:+1100
TZNAME:AEDT
END:DAYLIGHT
END:VTIMEZONE
BEGIN:VEVENT
UID:ai1ec-7526@spirelight.info/lwc
DTSTAMP:20200227T223638Z
CATEGORIES:
CONTACT:
DESCRIPTION:Tickets on sale from 5-6pm\nRaffle drawn from 6:15pm\n$1090 wor
 th of meat trays to be won!
DTSTART;TZID=Australia/Sydney:20170707T170000
DTEND;TZID=Australia/Sydney:20170707T183000
GEO:-28.812496;+153.275631
LOCATION:Lismore Workers Club @ 231 Keen St\, Lismore NSW 2480\, Australia
RRULE:FREQ=WEEKLY;BYDAY=FR;WKST=MO
SEQUENCE:0
SUMMARY:Monster Meat Raffle
URL:https://lismoreworkers.com.au/event/monster-meat-raffle/
X-COST-TYPE:free
X-ALT-DESC;FMTTYPE=text/html:<!DOCTYPE HTML PUBLIC '-//W3C//DTD HTML 3.2//E
 N'>\\n<HTML>\\n<HEAD>\\n<TITLE></TITLE>\\n</HEAD>\\n<BODY><p>Tickets on sa
 le from 5-6pm</p>\n<p>Raffle drawn from 6:15pm</p>\n<p>$1090 worth of meat
  trays to be won!</p>\n</BODY></HTML>
END:VEVENT
END:VCALENDAR
