BEGIN:VCALENDAR
VERSION:2.0
PRODID:-//103.42.110.3//NONSGML kigkonsult.se iCalcreator 2.20//
CALSCALE:GREGORIAN
METHOD:PUBLISH
X-WR-CALNAME:Lismore Workers Club
X-WR-CALDESC:Play\, meet and dine with the North Coast&#039\;s best clubs
X-FROM-URL:https://lismoreworkers.com.au
X-WR-TIMEZONE:Australia/Sydney
BEGIN:VTIMEZONE
TZID:Australia/Sydney
X-LIC-LOCATION:Australia/Sydney
BEGIN:STANDARD
DTSTART:20200405T030000
TZOFFSETFROM:+1100
TZOFFSETTO:+1000
TZNAME:AEST
END:STANDARD
BEGIN:DAYLIGHT
DTSTART:20191006T020000
TZOFFSETFROM:+1000
TZOFFSETTO:+1100
TZNAME:AEDT
END:DAYLIGHT
END:VTIMEZONE
BEGIN:VEVENT
UID:ai1ec-10083@lismoreworkers.com.au
DTSTAMP:20200227T223823Z
CATEGORIES:
CONTACT:
DESCRIPTION:Every Friday\, head up to the Workers Sports Club for our Mega 
 Meat Raffle!!!\nWith 38 meat trays on offer every Friday including 8 mega 
 trays!\n$5 for 25 numbers\n$10 for 100 numbers\nTickets available from the
  Sports bar from 5:30pm – draw starts 6:30pm
DTSTART;TZID=Australia/Sydney:20180710T183000
DTEND;TZID=Australia/Sydney:20180710T193000
LOCATION:Lismore Workers Sports Club @ 202 Oliver Avenue Goonellabah
RRULE:FREQ=WEEKLY;BYDAY=FR;WKST=MO
SEQUENCE:0
SUMMARY:Friday Mega Meat Raffle at Workers Sports
URL:https://lismoreworkers.com.au/event/friday-mega-meat-raffle-at-workers-
 sports/
X-COST-TYPE:free
X-ALT-DESC;FMTTYPE=text/html:<!DOCTYPE HTML PUBLIC '-//W3C//DTD HTML 3.2//E
 N'>\\n<HTML>\\n<HEAD>\\n<TITLE></TITLE>\\n</HEAD>\\n<BODY><p>Every Friday\
 , head up to the Workers Sports Club for our Mega Meat Raffle!!!</p>\n<p>W
 ith 38 meat trays on offer every Friday including 8 mega trays!</p>\n<p>$5
  for 25 numbers<br />\n$10 for 100 numbers</p>\n<p>Tickets available from 
 the Sports bar from 5:30pm – draw starts 6:30pm</p>\n</BODY></HTML>
END:VEVENT
END:VCALENDAR
